BEGIN:VCALENDAR
VERSION:2.0
PRODID:-//Squarespace Inc/Squarespace 6//v6//EN
BEGIN:VEVENT
UID:58b3818d3a04111160dbc06b@squarespace.com
DTSTAMP:20170523T025843Z
DTSTART:20170824T130000Z
DTEND:20170824T190000Z
SUMMARY:Auckland
GEO:-36.881991;174.766422
LOCATION:Kohia Education Centre\, 78 Epsom Avenue\, Auckland
END:VEVENT
END:VCALENDAR
