BEGIN:VCALENDAR
VERSION:2.0
PRODID:-//Squarespace Inc/Squarespace 6//v6//EN
BEGIN:VEVENT
UID:58b380ff2994cab3959c08e0@squarespace.com
DTSTAMP:20170523T025821Z
DTSTART:20170525T130000Z
DTEND:20170525T190000Z
SUMMARY:Auckland
GEO:-36.882005;174.766418
LOCATION:Kohia Education Centre\, 78 Epsom Avenue\, Auckland
END:VEVENT
END:VCALENDAR
