BEGIN:VCALENDAR
VERSION:2.0
PRODID:-//Squarespace Inc/Squarespace 6//v6//EN
BEGIN:VEVENT
UID:58b38272e3df2844f57c6efa@squarespace.com
DTSTAMP:20170523T025900Z
DTSTART:20170914T130000Z
DTEND:20170914T190000Z
SUMMARY:Auckland
GEO:-36.881991;174.766422
LOCATION:Kohia Education Centre\, 78 Epsom Avenue\, Auckland
END:VEVENT
END:VCALENDAR
