BEGIN:VCALENDAR
VERSION:2.0
PRODID:-//Squarespace Inc/Squarespace 6//v6//EN
BEGIN:VEVENT
UID:58e48168d2b857cb9a539963@squarespace.com
DTSTAMP:20170823T083404Z
DTSTART:20170909T130000Z
DTEND:20170909T170000Z
SUMMARY:Rockhampton\, Queensland
GEO:-23.387683;150.507419
LOCATION:Kevin Castles Centre\, West Street\, Rockhampton\, QLD\, Australia
END:VEVENT
END:VCALENDAR
